BEGIN:VCALENDAR
VERSION:2.0
PRODID:SchoolNow
CALSCALE:GREGORIAN
BEGIN:VEVENT
UID:4be72ca8-93f8-11ec-91c1-02d7092b1ea9
DTSTAMP:20220222T155837Z
SUMMARY:Walking\, Toning and Strengthening Class
LOCATION:Activity Center
URL;VALUE=URI:https://www.wildernesslakecdd.org/calendar/3111566/walking-to
 ning-and-strengthening-class
DTSTART:20220411T133000Z
DTEND:20220411T144500Z
END:VEVENT
END:VCALENDAR
