BEGIN:VCALENDAR
VERSION:2.0
PRODID:SchoolNow
CALSCALE:GREGORIAN
BEGIN:VEVENT
UID:df4966d8-93f7-11ec-98de-02532c4daa1d
DTSTAMP:20220222T155535Z
SUMMARY:Walking\, Toning and Strengthening Class
LOCATION:Activity Center
URL;VALUE=URI:https://www.wildernesslakecdd.org/calendar/3111563/walking-to
 ning-and-strengthening-class
DTSTART:20220408T133000Z
DTEND:20220408T144500Z
END:VEVENT
END:VCALENDAR
