BEGIN:VCALENDAR
VERSION:2.0
PRODID:SchoolNow
CALSCALE:GREGORIAN
BEGIN:VEVENT
UID:3db8b332-93f7-11ec-a8bf-02532c4daa1d
DTSTAMP:20220222T155104Z
SUMMARY:Walking\, Toning and Strengthening Class
LOCATION:Activity Center
URL;VALUE=URI:https://www.wildernesslakecdd.org/calendar/3111561/walking-to
 ning-and-strengthening-class
DTSTART:20220404T133000Z
DTEND:20220404T144500Z
END:VEVENT
END:VCALENDAR
