BEGIN:VCALENDAR
VERSION:2.0
PRODID:SchoolNow
CALSCALE:GREGORIAN
BEGIN:VEVENT
UID:e9cad800-93f5-11ec-a4fd-02f310dc2fef
DTSTAMP:20220222T154134Z
SUMMARY:Walking\, Toning and Strengthening Class
LOCATION:Activity Center
URL;VALUE=URI:https://www.wildernesslakecdd.org/calendar/3111555/walking-to
 ning-and-strengthening-class
DTSTART:20220401T133000Z
DTEND:20220401T144500Z
END:VEVENT
END:VCALENDAR
