BEGIN:VCALENDAR
VERSION:2.0
PRODID:SchoolNow
CALSCALE:GREGORIAN
BEGIN:VEVENT
UID:db0c88aa-93f4-11ec-8630-0a7057cd47fd
DTSTAMP:20220222T153359Z
SUMMARY:Walking\, Toning and Strengthening Class
LOCATION:Activity Center
URL;VALUE=URI:https://www.wildernesslakecdd.org/calendar/3111551/walking-to
 ning-and-strengthening-class
DTSTART:20220330T133000Z
DTEND:20220330T144500Z
END:VEVENT
END:VCALENDAR
