BEGIN:VCALENDAR
VERSION:2.0
PRODID:SchoolNow
CALSCALE:GREGORIAN
BEGIN:VEVENT
UID:ac0fbbea-93f3-11ec-a353-02d7092b1ea9
DTSTAMP:20220222T152531Z
SUMMARY:Walking\, Toning and Strengthening Class
LOCATION:Activity Center
URL;VALUE=URI:https://www.wildernesslakecdd.org/calendar/3111547/walking-to
 ning-and-strengthening-class
DTSTART:20220328T133000Z
DTEND:20220328T144500Z
END:VEVENT
END:VCALENDAR
