BEGIN:VCALENDAR
VERSION:2.0
PRODID:SchoolNow
CALSCALE:GREGORIAN
BEGIN:VEVENT
UID:48ca3efc-93f3-11ec-813b-02d7092b1ea9
DTSTAMP:20220222T152244Z
SUMMARY:Walking\, Toning and Strengthening Class
LOCATION:Activity Center
URL;VALUE=URI:https://www.wildernesslakecdd.org/calendar/3111543/walking-to
 ning-and-strengthening-class
DTSTART:20220325T133000Z
DTEND:20220325T144500Z
END:VEVENT
END:VCALENDAR
