BEGIN:VCALENDAR
VERSION:2.0
PRODID:SchoolNow
CALSCALE:GREGORIAN
BEGIN:VEVENT
UID:10f26c8e-93f3-11ec-b2d6-02d7092b1ea9
DTSTAMP:20220222T152111Z
SUMMARY:Walking\, Toning and Strengthening Class
LOCATION:Activity Center
URL;VALUE=URI:https://www.wildernesslakecdd.org/calendar/3111542/walking-to
 ning-and-strengthening-class
DTSTART:20220323T133000Z
DTEND:20220323T144500Z
END:VEVENT
END:VCALENDAR
