BEGIN:VCALENDAR
VERSION:2.0
PRODID:SchoolNow
CALSCALE:GREGORIAN
BEGIN:VEVENT
UID:d27af016-93f2-11ec-84d8-02d7092b1ea9
DTSTAMP:20220222T151926Z
SUMMARY:Walking\, Toning and Strengthening Class
LOCATION:Activity Center
URL;VALUE=URI:https://www.wildernesslakecdd.org/calendar/3111541/walking-to
 ning-and-strengthening-class
DTSTART:20220321T133000Z
DTEND:20220321T144500Z
END:VEVENT
END:VCALENDAR
