BEGIN:VCALENDAR
VERSION:2.0
PRODID:SchoolNow
CALSCALE:GREGORIAN
BEGIN:VEVENT
UID:ebce11d4-93f1-11ec-a200-0ae7b8119215
DTSTAMP:20220222T151259Z
SUMMARY:Walking\, Toning and Strengthening Class
LOCATION:Activity Center
URL;VALUE=URI:https://www.wildernesslakecdd.org/calendar/3111540/walking-to
 ning-and-strengthening-class
DTSTART:20220318T133000Z
DTEND:20220318T144500Z
END:VEVENT
END:VCALENDAR
