BEGIN:VCALENDAR
VERSION:2.0
PRODID:SchoolNow
CALSCALE:GREGORIAN
BEGIN:VEVENT
UID:0fb0787c-93f1-11ec-be23-02532c4daa1d
DTSTAMP:20220222T150650Z
SUMMARY:Walking\, Toning and Strengthening Class
LOCATION:Activity Center
URL;VALUE=URI:https://www.wildernesslakecdd.org/calendar/3111538/walking-to
 ning-and-strengthening-class
DTSTART:20220314T133000Z
DTEND:20220314T144500Z
END:VEVENT
END:VCALENDAR
