BEGIN:VCALENDAR
VERSION:2.0
PRODID:SchoolNow
CALSCALE:GREGORIAN
BEGIN:VEVENT
UID:c33d7faa-93ee-11ec-8994-02532c4daa1d
DTSTAMP:20220222T145022Z
SUMMARY:Walking\, Toning and Strengthening Class
LOCATION:Activity Center
URL;VALUE=URI:https://www.wildernesslakecdd.org/calendar/3111537/walking-to
 ning-and-strengthening-class
DTSTART:20220311T143000Z
DTEND:20220311T154500Z
END:VEVENT
END:VCALENDAR
