BEGIN:VCALENDAR
VERSION:2.0
PRODID:SchoolNow
CALSCALE:GREGORIAN
BEGIN:VEVENT
UID:48dc1050-93ee-11ec-a7c7-025562101b21
DTSTAMP:20220222T144657Z
SUMMARY:Walking\, Toning and Strengthening Class
LOCATION:Activity Center
URL;VALUE=URI:https://www.wildernesslakecdd.org/calendar/3111536/walking-to
 ning-and-strengthening-class
DTSTART:20220309T143000Z
DTEND:20220309T154500Z
END:VEVENT
END:VCALENDAR
