BEGIN:VCALENDAR
VERSION:2.0
PRODID:SchoolNow
CALSCALE:GREGORIAN
BEGIN:VEVENT
UID:f2be8f54-93ed-11ec-9c7e-025562101b21
DTSTAMP:20220222T144433Z
SUMMARY:Walking\, Toning and Strengthening Class
LOCATION:Activity Center
URL;VALUE=URI:https://www.wildernesslakecdd.org/calendar/3111535/walking-to
 ning-and-strengthening-class
DTSTART:20220307T143000Z
DTEND:20220307T154500Z
END:VEVENT
END:VCALENDAR
