BEGIN:VCALENDAR
VERSION:2.0
PRODID:SchoolNow
CALSCALE:GREGORIAN
BEGIN:VEVENT
UID:914996ec-93ed-11ec-ac95-025562101b21
DTSTAMP:20220222T144149Z
SUMMARY:Walking\, Toning and Strengthening Class
LOCATION:Activity Center
URL;VALUE=URI:https://www.wildernesslakecdd.org/calendar/3111534/walking-to
 ning-and-strengthening-class
DTSTART:20220304T143000Z
DTEND:20220304T154500Z
END:VEVENT
END:VCALENDAR
