BEGIN:VCALENDAR
VERSION:2.0
PRODID:SchoolNow
CALSCALE:GREGORIAN
BEGIN:VEVENT
UID:2d4ab14a-93ec-11ec-b5c5-0e123c8486b5
DTSTAMP:20220222T143152Z
SUMMARY:Walking\, Toning and Strengthrning Class
LOCATION:Activity Center
URL;VALUE=URI:https://www.wildernesslakecdd.org/calendar/3111533/walking-to
 ning-and-strengthrning-class
DTSTART:20220302T143000Z
DTEND:20220302T154500Z
END:VEVENT
END:VCALENDAR
