BEGIN:VCALENDAR
VERSION:2.0
PRODID:SchoolNow
CALSCALE:GREGORIAN
BEGIN:VEVENT
UID:9dd559cc-933a-11ec-94a0-02f310dc2fef
DTSTAMP:20220221T172050Z
SUMMARY:Yoga
LOCATION:Activity Center
URL;VALUE=URI:https://www.wildernesslakecdd.org/calendar/3110891/yoga
DTSTART:20220526T123000Z
DTEND:20220526T133000Z
END:VEVENT
END:VCALENDAR
