BEGIN:VCALENDAR
VERSION:2.0
PRODID:SchoolNow
CALSCALE:GREGORIAN
BEGIN:VEVENT
UID:10b366a6-933a-11ec-ac57-02f310dc2fef
DTSTAMP:20220221T171653Z
SUMMARY:Yoga
LOCATION:Activity Center
URL;VALUE=URI:https://www.wildernesslakecdd.org/calendar/3110890/yoga
DTSTART:20220524T123000Z
DTEND:20220524T133000Z
END:VEVENT
END:VCALENDAR
