BEGIN:VCALENDAR
VERSION:2.0
PRODID:SchoolNow
CALSCALE:GREGORIAN
BEGIN:VEVENT
UID:e21823c2-9339-11ec-aede-02f310dc2fef
DTSTAMP:20220221T171535Z
SUMMARY:Yoga
LOCATION:Activity Center
URL;VALUE=URI:https://www.wildernesslakecdd.org/calendar/3110889/yoga
DTSTART:20220519T123000Z
DTEND:20220519T133000Z
END:VEVENT
END:VCALENDAR
