BEGIN:VCALENDAR
VERSION:2.0
PRODID:SchoolNow
CALSCALE:GREGORIAN
BEGIN:VEVENT
UID:ac310c2e-9339-11ec-b2bb-02f310dc2fef
DTSTAMP:20220221T171405Z
SUMMARY:Yoga
LOCATION:Activity Center
URL;VALUE=URI:https://www.wildernesslakecdd.org/calendar/3110888/yoga
DTSTART:20220517T123000Z
DTEND:20220517T133000Z
END:VEVENT
END:VCALENDAR
