BEGIN:VCALENDAR
VERSION:2.0
PRODID:SchoolNow
CALSCALE:GREGORIAN
BEGIN:VEVENT
UID:65748cac-9339-11ec-980b-02f310dc2fef
DTSTAMP:20220221T171206Z
SUMMARY:Yoga
LOCATION:Activity Center
URL;VALUE=URI:https://www.wildernesslakecdd.org/calendar/3110887/yoga
DTSTART:20220512T123000Z
DTEND:20220512T133000Z
END:VEVENT
END:VCALENDAR
