BEGIN:VCALENDAR
VERSION:2.0
PRODID:SchoolNow
CALSCALE:GREGORIAN
BEGIN:VEVENT
UID:b40f5ff0-9338-11ec-ac36-02f310dc2fef
DTSTAMP:20220221T170709Z
SUMMARY:Yoga
LOCATION:Activity Center
URL;VALUE=URI:https://www.wildernesslakecdd.org/calendar/3110885/yoga
DTSTART:20220505T123000Z
DTEND:20220505T133000Z
END:VEVENT
END:VCALENDAR
