BEGIN:VCALENDAR
VERSION:2.0
PRODID:SchoolNow
CALSCALE:GREGORIAN
BEGIN:VEVENT
UID:60fc887e-9338-11ec-a697-02f310dc2fef
DTSTAMP:20220221T170449Z
SUMMARY:Yoga
LOCATION:Activity Center
URL;VALUE=URI:https://www.wildernesslakecdd.org/calendar/3110782/yoga
DTSTART:20220503T123000Z
DTEND:20220503T133000Z
END:VEVENT
END:VCALENDAR
