BEGIN:VCALENDAR
VERSION:2.0
PRODID:SchoolNow
CALSCALE:GREGORIAN
BEGIN:VEVENT
UID:becff32e-9337-11ec-8fef-0a4fe8e45419
DTSTAMP:20220221T170017Z
SUMMARY:Yoga
LOCATION:Activity Center
URL;VALUE=URI:https://www.wildernesslakecdd.org/calendar/3110781/yoga
DTSTART:20220428T123000Z
DTEND:20220428T133000Z
END:VEVENT
END:VCALENDAR
