BEGIN:VCALENDAR
VERSION:2.0
PRODID:SchoolNow
CALSCALE:GREGORIAN
BEGIN:VEVENT
UID:97826518-9337-11ec-a0f7-0a4fe8e45419
DTSTAMP:20220221T165911Z
SUMMARY:Yoga
LOCATION:Activity Center
URL;VALUE=URI:https://www.wildernesslakecdd.org/calendar/3110780/yoga
DTSTART:20220426T123000Z
DTEND:20220426T133000Z
END:VEVENT
END:VCALENDAR
