BEGIN:VCALENDAR
VERSION:2.0
PRODID:SchoolNow
CALSCALE:GREGORIAN
BEGIN:VEVENT
UID:85ebadec-9336-11ec-9a54-0e123c8486b5
DTSTAMP:20220221T165132Z
SUMMARY:Yoga
LOCATION:Activity Center
URL;VALUE=URI:https://www.wildernesslakecdd.org/calendar/3110779/yoga
DTSTART:20220421T123000Z
DTEND:20220421T133000Z
END:VEVENT
END:VCALENDAR
