BEGIN:VCALENDAR
VERSION:2.0
PRODID:SchoolNow
CALSCALE:GREGORIAN
BEGIN:VEVENT
UID:59ecfaf2-9336-11ec-92e3-0e123c8486b5
DTSTAMP:20220221T165018Z
SUMMARY:Yoga
LOCATION:Activity Center
URL;VALUE=URI:https://www.wildernesslakecdd.org/calendar/3110778/yoga
DTSTART:20220419T123000Z
DTEND:20220419T133000Z
END:VEVENT
END:VCALENDAR
