BEGIN:VCALENDAR
VERSION:2.0
PRODID:SchoolNow
CALSCALE:GREGORIAN
BEGIN:VEVENT
UID:bfb3d640-9335-11ec-8a81-0a1e4ee7b8df
DTSTAMP:20220221T164600Z
SUMMARY:Yoga
LOCATION:Activity Center
URL;VALUE=URI:https://www.wildernesslakecdd.org/calendar/3110777/yoga
DTSTART:20220414T123000Z
DTEND:20220414T133000Z
END:VEVENT
END:VCALENDAR
