BEGIN:VCALENDAR
VERSION:2.0
PRODID:SchoolNow
CALSCALE:GREGORIAN
BEGIN:VEVENT
UID:865199c0-9333-11ec-8b34-0e123c8486b5
DTSTAMP:20220221T163004Z
SUMMARY:Yoga
LOCATION:Activity Center
URL;VALUE=URI:https://www.wildernesslakecdd.org/calendar/3110775/yoga
DTSTART:20220407T123000Z
DTEND:20220407T133000Z
END:VEVENT
END:VCALENDAR
