BEGIN:VCALENDAR
VERSION:2.0
PRODID:SchoolNow
CALSCALE:GREGORIAN
BEGIN:VEVENT
UID:5cbe5a08-9333-11ec-9c37-0e123c8486b5
DTSTAMP:20220221T162855Z
SUMMARY:Yoga
LOCATION:Activity Center
URL;VALUE=URI:https://www.wildernesslakecdd.org/calendar/3110774/yoga
DTSTART:20220405T123000Z
DTEND:20220405T133000Z
END:VEVENT
END:VCALENDAR
