BEGIN:VCALENDAR
VERSION:2.0
PRODID:SchoolNow
CALSCALE:GREGORIAN
BEGIN:VEVENT
UID:12e3f9c4-9333-11ec-ba72-0e123c8486b5
DTSTAMP:20220221T162651Z
SUMMARY:Yoga
LOCATION:Activity Center
URL;VALUE=URI:https://www.wildernesslakecdd.org/calendar/3110773/yoga
DTSTART:20220331T123000Z
DTEND:20220331T133000Z
END:VEVENT
END:VCALENDAR
