BEGIN:VCALENDAR
VERSION:2.0
PRODID:SchoolNow
CALSCALE:GREGORIAN
BEGIN:VEVENT
UID:b4cba4a4-9332-11ec-be54-0e123c8486b5
DTSTAMP:20220221T162413Z
SUMMARY:Yoga
LOCATION:Activity Center
URL;VALUE=URI:https://www.wildernesslakecdd.org/calendar/3110772/yoga
DTSTART:20220329T123000Z
DTEND:20220329T133000Z
END:VEVENT
END:VCALENDAR
