BEGIN:VCALENDAR
VERSION:2.0
PRODID:SchoolNow
CALSCALE:GREGORIAN
BEGIN:VEVENT
UID:42d5bede-9332-11ec-b870-0e123c8486b5
DTSTAMP:20220221T162102Z
SUMMARY:Yoga
LOCATION:Activity Center
URL;VALUE=URI:https://www.wildernesslakecdd.org/calendar/3110770/yoga
DTSTART:20220322T123000Z
DTEND:20220322T133000Z
END:VEVENT
END:VCALENDAR
