BEGIN:VCALENDAR
VERSION:2.0
PRODID:SchoolNow
CALSCALE:GREGORIAN
BEGIN:VEVENT
UID:fdaac7f0-9331-11ec-bc67-0e123c8486b5
DTSTAMP:20220221T161906Z
SUMMARY:Yoga
LOCATION:Activity Center
URL;VALUE=URI:https://www.wildernesslakecdd.org/calendar/3110769/yoga
DTSTART:20220317T123000Z
DTEND:20220317T133000Z
END:VEVENT
END:VCALENDAR
