BEGIN:VCALENDAR
VERSION:2.0
PRODID:SchoolNow
CALSCALE:GREGORIAN
BEGIN:VEVENT
UID:b89e29ae-9331-11ec-89d4-0e123c8486b5
DTSTAMP:20220221T161710Z
SUMMARY:Yoga
LOCATION:Activity Center
URL;VALUE=URI:https://www.wildernesslakecdd.org/calendar/3110768/yoga
DTSTART:20220315T123000Z
DTEND:20220315T133000Z
END:VEVENT
END:VCALENDAR
