BEGIN:VCALENDAR
VERSION:2.0
PRODID:SchoolNow
CALSCALE:GREGORIAN
BEGIN:VEVENT
UID:131d614e-9330-11ec-9b91-0ab020454693
DTSTAMP:20220221T160523Z
SUMMARY:Yoga
LOCATION:Activity Center
URL;VALUE=URI:https://www.wildernesslakecdd.org/calendar/3110765/yoga
DTSTART:20220308T133000Z
DTEND:20220308T143000Z
END:VEVENT
END:VCALENDAR
