BEGIN:VCALENDAR
VERSION:2.0
PRODID:SchoolNow
CALSCALE:GREGORIAN
BEGIN:VEVENT
UID:db17bbc4-932e-11ec-865d-02532c4daa1d
DTSTAMP:20220221T155639Z
SUMMARY:Yoga
LOCATION:Activity Center
URL;VALUE=URI:https://www.wildernesslakecdd.org/calendar/3110764/yoga
DTSTART:20220303T133000Z
DTEND:20220303T143000Z
END:VEVENT
END:VCALENDAR
