BEGIN:VCALENDAR
VERSION:2.0
PRODID:SchoolNow
CALSCALE:GREGORIAN
BEGIN:VEVENT
UID:fd6bba0c-9326-11ec-b82d-02f310dc2fef
DTSTAMP:20220221T150021Z
SUMMARY:HOA Meeting
LOCATION:Activity Center
URL;VALUE=URI:https://www.wildernesslakecdd.org/calendar/3110747/hoa-meetin
 g
DTSTART:20230228T233000Z
DTEND:20230301T013000Z
END:VEVENT
END:VCALENDAR
