BEGIN:VCALENDAR
VERSION:2.0
PRODID:SchoolNow
CALSCALE:GREGORIAN
BEGIN:VEVENT
UID:a1497700-9326-11ec-aaeb-02f310dc2fef
DTSTAMP:20220221T172240Z
SUMMARY:HOA Meeting
LOCATION:Activity Center
URL;VALUE=URI:https://www.wildernesslakecdd.org/calendar/3110746/hoa-meetin
 g
DTSTART:20230124T233000Z
DTEND:20230125T013000Z
END:VEVENT
END:VCALENDAR
