BEGIN:VCALENDAR
VERSION:2.0
PRODID:SchoolNow
CALSCALE:GREGORIAN
BEGIN:VEVENT
UID:47768778-9325-11ec-a284-0ef4ccfd4b59
DTSTAMP:20220221T144806Z
SUMMARY:HOA Meeting
LOCATION:Activity Center
URL;VALUE=URI:https://www.wildernesslakecdd.org/calendar/3110696/hoa-meetin
 g
DTSTART:20221122T233000Z
DTEND:20221123T013000Z
END:VEVENT
END:VCALENDAR
