BEGIN:VCALENDAR
VERSION:2.0
PRODID:SchoolNow
CALSCALE:GREGORIAN
BEGIN:VEVENT
UID:0fab02c4-9325-11ec-9762-0ef4ccfd4b59
DTSTAMP:20220221T144632Z
SUMMARY:HOA Meeting
LOCATION:Activity Center
URL;VALUE=URI:https://www.wildernesslakecdd.org/calendar/3110695/hoa-meetin
 g
DTSTART:20221025T223000Z
DTEND:20221026T003000Z
END:VEVENT
END:VCALENDAR
