BEGIN:VCALENDAR
VERSION:2.0
PRODID:SchoolNow
CALSCALE:GREGORIAN
BEGIN:VEVENT
UID:b1c902be-9324-11ec-ab36-0ef4ccfd4b59
DTSTAMP:20220221T144355Z
SUMMARY:HOA Meeting
LOCATION:Activity Center
URL;VALUE=URI:https://www.wildernesslakecdd.org/calendar/3110694/hoa-meetin
 g
DTSTART:20220927T223000Z
DTEND:20220928T003000Z
END:VEVENT
END:VCALENDAR
