BEGIN:VCALENDAR
VERSION:2.0
PRODID:SchoolNow
CALSCALE:GREGORIAN
BEGIN:VEVENT
UID:6fc7da34-9324-11ec-8dcf-0ef4ccfd4b59
DTSTAMP:20220221T144204Z
SUMMARY:HOA Meeting
LOCATION:Activity Center
URL;VALUE=URI:https://www.wildernesslakecdd.org/calendar/3110693/hoa-meetin
 g
DTSTART:20220823T223000Z
DTEND:20220824T003000Z
END:VEVENT
END:VCALENDAR
