BEGIN:VCALENDAR
VERSION:2.0
PRODID:SchoolNow
CALSCALE:GREGORIAN
BEGIN:VEVENT
UID:a38a9b28-9323-11ec-9dcb-0eeb9bc3bc11
DTSTAMP:20220221T143621Z
SUMMARY:HOA Meeting
LOCATION:Activity Center
URL;VALUE=URI:https://www.wildernesslakecdd.org/calendar/3110692/hoa-meetin
 g
DTSTART:20220726T223000Z
DTEND:20220727T003000Z
END:VEVENT
END:VCALENDAR
