BEGIN:VCALENDAR
VERSION:2.0
PRODID:SchoolNow
CALSCALE:GREGORIAN
BEGIN:VEVENT
UID:534947e0-9323-11ec-9d56-0eeb9bc3bc11
DTSTAMP:20220221T143407Z
SUMMARY:HOA Meeting
LOCATION:Activity Center
URL;VALUE=URI:https://www.wildernesslakecdd.org/calendar/3110691/hoa-meetin
 g
DTSTART:20220628T223000Z
DTEND:20220629T003000Z
END:VEVENT
END:VCALENDAR
