BEGIN:VCALENDAR
VERSION:2.0
PRODID:SchoolNow
CALSCALE:GREGORIAN
BEGIN:VEVENT
UID:b2d8d0ce-9321-11ec-9048-02532c4daa1d
DTSTAMP:20220221T142228Z
SUMMARY:HOA Meeting
LOCATION:Activities Center
URL;VALUE=URI:https://www.wildernesslakecdd.org/calendar/3110690/hoa-meetin
 g
DTSTART:20220426T223000Z
DTEND:20220427T003000Z
END:VEVENT
END:VCALENDAR
