BEGIN:VCALENDAR
VERSION:2.0
PRODID:SchoolNow
CALSCALE:GREGORIAN
BEGIN:VEVENT
UID:88802cf6-76ec-11ec-95b8-0a90e45c337f
DTSTAMP:20220116T165121Z
SUMMARY:Art Class
URL;VALUE=URI:https://www.wildernesslakecdd.org/calendar/3075658/art-class
DTSTART:20220326T160000Z
DTEND:20220326T190000Z
END:VEVENT
END:VCALENDAR
