BEGIN:VCALENDAR
VERSION:2.0
PRODID:SchoolNow
CALSCALE:GREGORIAN
BEGIN:VEVENT
UID:72ae0df8-76ec-11ec-abf4-0a90e45c337f
DTSTAMP:20220116T165045Z
SUMMARY:Chat'hers Event
URL;VALUE=URI:https://www.wildernesslakecdd.org/calendar/3075657/chathers-e
 vent
DTSTART:20220324T160000Z
DTEND:20220324T190000Z
END:VEVENT
END:VCALENDAR
