BEGIN:VCALENDAR
VERSION:2.0
PRODID:SchoolNow
CALSCALE:GREGORIAN
BEGIN:VEVENT
UID:54b3d83c-76ec-11ec-b58b-0a90e45c337f
DTSTAMP:20220116T164954Z
SUMMARY:NXT Generation Food Truck
LOCATION:Lodge Parking Lot
URL;VALUE=URI:https://www.wildernesslakecdd.org/calendar/3075656/nxt-genera
 tion-food-truck
DTSTART:20220318T210000Z
DTEND:20220319T000000Z
END:VEVENT
END:VCALENDAR
