BEGIN:VCALENDAR
VERSION:2.0
PRODID:SchoolNow
CALSCALE:GREGORIAN
BEGIN:VEVENT
UID:37784bea-76ec-11ec-81d4-0a90e45c337f
DTSTAMP:20220116T172952Z
SUMMARY:Family BBQ
LOCATION:Lodge Campus
URL;VALUE=URI:https://www.wildernesslakecdd.org/calendar/3075655/family-bbq
DTSTART:20220319T170000Z
DTEND:20220319T200000Z
END:VEVENT
END:VCALENDAR
